BEGIN:VCALENDAR
VERSION:2.0
PRODID:-//ResoundingPhiladelphia.com - ECPv6.15.20//NONSGML v1.0//EN
CALSCALE:GREGORIAN
METHOD:PUBLISH
X-ORIGINAL-URL:https://resoundingphiladelphia.com
X-WR-CALDESC:Events for ResoundingPhiladelphia.com
REFRESH-INTERVAL;VALUE=DURATION:PT1H
X-Robots-Tag:noindex
X-PUBLISHED-TTL:PT1H
BEGIN:VTIMEZONE
TZID:UTC
BEGIN:STANDARD
TZOFFSETFROM:+0000
TZOFFSETTO:+0000
TZNAME:UTC
DTSTART:20250101T000000
END:STANDARD
END:VTIMEZONE
BEGIN:VEVENT
DTSTART;TZID=UTC:20260420T110000
DTEND;TZID=UTC:20260704T170000
DTSTAMP:20260423T163434
CREATED:20250601T151758Z
LAST-MODIFIED:20260415T010934Z
UID:709-1776682800-1783184400@resoundingphiladelphia.com
SUMMARY:Various performances in Center City
DESCRIPTION:While these are private events\, if you hear a three to six piece fife and drum company during your travels near the Penn’s Waterfront\, the Convention Center or the National Constitution Center\, you’ll know it is us! Contact phillyfifer@gmail.com to help book your next event.
URL:https://resoundingphiladelphia.com/event/various-performances-in-old-city/
ATTACH;FMTTYPE=image/jpeg:https://resoundingphiladelphia.com/wp-content/uploads/2025/09/with-Ben-Franklin-scaled.jpeg
END:VEVENT
BEGIN:VEVENT
DTSTART;TZID=UTC:20260605T190000
DTEND;TZID=UTC:20260605T203000
DTSTAMP:20260423T163434
CREATED:20260128T021309Z
LAST-MODIFIED:20260326T223354Z
UID:1021-1780686000-1780691400@resoundingphiladelphia.com
SUMMARY:Philadelphia Appearances with Orchestra 2001
DESCRIPTION:Orchestra 2001 will present concerts interpreting constitutional amendments through the lens of contemporary music. We will partner with them on their A MORE PERFECT UNION: Musical Reflections on the 2nd Amendment to the U.S. Constitution. Dates at other locations TBD. \nAnonymous – My Dog and Gun \nAnonymous – Philadelphia March \nWilliam Billings – Chester \nAnonymous – Three Camps \nAnonymous – The Congress \nPhilly Fife and Drum Company \nAnonymous – Civil War Bugle Calls George Rabbai\, bugle \nJennifer Higdon – rapid•fire David DiGiacobbe\, flute \nRaven Chacon – Report \nThomas Whitman – Fanfare for the Second Amendment / Say It Loud! (World Premiere for Philly Fife and Drum Company with Orchestra 2001)
URL:https://resoundingphiladelphia.com/event/multiple-philadelphia-appearances-with-orchestra-2001/
LOCATION:Fort Mifflin on the Delaware\, 6400 Hog Island Road\, Philadelphia\, 19153\, United States
ATTACH;FMTTYPE=image/png:https://resoundingphiladelphia.com/wp-content/uploads/2026/01/Screenshot-2026-03-26-at-5.21.51-PM.png
END:VEVENT
BEGIN:VEVENT
DTSTART;TZID=UTC:20260613T090000
DTEND;TZID=UTC:20260613T110000
DTSTAMP:20260423T163434
CREATED:20260403T181745Z
LAST-MODIFIED:20260403T181745Z
UID:1115-1781341200-1781348400@resoundingphiladelphia.com
SUMMARY:Nesquehoning "Happy Birthday USA Parade"
DESCRIPTION:The Nesquehoning parade is part of America250PA celebrations\, serving as the kickoff to the grand celebration for the town’s 202nd Founding and America’s 250th Anniversary. This event is organized by the Nesquehoning Historical Society.
URL:https://resoundingphiladelphia.com/event/nesquehoning-happy-birthday-usa-parade/
LOCATION:Nesquehoning Borough\, 20 Market Street\, Nesquehoning\, PA\, 18240\, United States
ATTACH;FMTTYPE=image/png:https://resoundingphiladelphia.com/wp-content/uploads/2026/04/Nesquehoning-Borough.png
END:VEVENT
BEGIN:VEVENT
DTSTART;TZID=UTC:20260613T104500
DTEND;TZID=UTC:20260613T130000
DTSTAMP:20260423T163434
CREATED:20260415T010219Z
LAST-MODIFIED:20260415T010219Z
UID:1120-1781347500-1781355600@resoundingphiladelphia.com
SUMMARY:FIRST U.S. ARMY: 1775\, a Saturday Firstival
DESCRIPTION:This event is part of 52 Weeks of Firsts. A yearlong\, citywide series of events highlighting the groundbreaking ideas\, inventions and milestones in Philadelphia.
URL:https://resoundingphiladelphia.com/event/first-u-s-army-1775-a-saturday-firstival/
LOCATION:The Museum of the American Revolution
ATTACH;FMTTYPE=image/png:https://resoundingphiladelphia.com/wp-content/uploads/2025/06/The-Marines-Midnight-Bash.png
END:VEVENT
END:VCALENDAR