BEGIN:VCALENDAR
VERSION:2.0
PRODID:-//ResoundingPhiladelphia.com - ECPv6.15.20//NONSGML v1.0//EN
CALSCALE:GREGORIAN
METHOD:PUBLISH
X-ORIGINAL-URL:https://resoundingphiladelphia.com
X-WR-CALDESC:Events for ResoundingPhiladelphia.com
REFRESH-INTERVAL;VALUE=DURATION:PT1H
X-Robots-Tag:noindex
X-PUBLISHED-TTL:PT1H
BEGIN:VTIMEZONE
TZID:UTC
BEGIN:STANDARD
TZOFFSETFROM:+0000
TZOFFSETTO:+0000
TZNAME:UTC
DTSTART:20250101T000000
END:STANDARD
END:VTIMEZONE
BEGIN:VEVENT
DTSTART;TZID=UTC:20260110T100000
DTEND;TZID=UTC:20260110T111500
DTSTAMP:20260423T174931
CREATED:20251226T035158Z
LAST-MODIFIED:20260114T203952Z
UID:973-1768039200-1768043700@resoundingphiladelphia.com
SUMMARY:2026 Pennsylvania Farm Show\, "Growing a Nation"
DESCRIPTION:Philly Fife and Drum was there for the opening ceremonies for the PA Farm Show\, sponsored by America250PA.
URL:https://resoundingphiladelphia.com/event/2026-pennsylvania-farm-show/
LOCATION:Farm Show Complex and Expo Center\, 2300 North Cameron Street\, Harrisburg\, PA\, 17110\, United States
ATTACH;FMTTYPE=image/png:https://resoundingphiladelphia.com/wp-content/uploads/2025/12/PA-Farm-Show-3.png
END:VEVENT
END:VCALENDAR