BEGIN:VCALENDAR
VERSION:2.0
PRODID:-//ResoundingPhiladelphia.com - ECPv6.15.20//NONSGML v1.0//EN
CALSCALE:GREGORIAN
METHOD:PUBLISH
X-WR-CALNAME:ResoundingPhiladelphia.com
X-ORIGINAL-URL:https://resoundingphiladelphia.com
X-WR-CALDESC:Events for ResoundingPhiladelphia.com
REFRESH-INTERVAL;VALUE=DURATION:PT1H
X-Robots-Tag:noindex
X-PUBLISHED-TTL:PT1H
BEGIN:VTIMEZONE
TZID:UTC
BEGIN:STANDARD
TZOFFSETFROM:+0000
TZOFFSETTO:+0000
TZNAME:UTC
DTSTART:20240101T000000
END:STANDARD
END:VTIMEZONE
BEGIN:VEVENT
DTSTART;VALUE=DATE:20251003
DTEND;VALUE=DATE:20251005
DTSTAMP:20260423T212852
CREATED:20250820T182554Z
LAST-MODIFIED:20251016T230315Z
UID:862-1759449600-1759622399@resoundingphiladelphia.com
SUMMARY:College and community weekend event in NC
DESCRIPTION:We traveled to Bertie County North Carolina for a two day Patriot reenactment. Day one was “Better Together” presentations for 400 school children. Day featured fife and drum and drum presentations accompanying a “Live Weapons” canon demonstrations. Put on by the Indian Woods Historical Preservation Society partnered with the North Carolina Department of Natural and Cultural Resources. \nBERTIE’S FORGOTTEN BLACK AND NATIVE PATRIOTS OF THE\nREVOLUTIONARY WAR \nExperience A Revolutionary War \nEncampment and Visit With Soldiers \nFife and Drum Performances \nListen to Two Indoor History Presentations \nLive Weapons Demonstration \nLocal Food Trucks On-Site
URL:https://resoundingphiladelphia.com/event/college-and-community-weekend-event-in-nc/
ATTACH;FMTTYPE=image/jpeg:https://resoundingphiladelphia.com/wp-content/uploads/2025/08/IMG_5597-scaled.jpg
END:VEVENT
BEGIN:VEVENT
DTSTART;TZID=UTC:20251027T140000
DTEND;TZID=UTC:20251027T170000
DTSTAMP:20260423T212852
CREATED:20251030T224737Z
LAST-MODIFIED:20260125T041221Z
UID:920-1761573600-1761584400@resoundingphiladelphia.com
SUMMARY:The Doorstep of Destiny quartet
DESCRIPTION:or “the Doortet” as we have been fondly named\, has been invited to play for Kevin Wildes segment “the Doorstep of Destiny” on FoxSports First Things First.
URL:https://resoundingphiladelphia.com/event/the-doorstep-of-destiny-quartet/
ATTACH;FMTTYPE=image/jpeg:https://resoundingphiladelphia.com/wp-content/uploads/2025/07/IMG_5764-2-scaled.jpeg
END:VEVENT
BEGIN:VEVENT
DTSTART;TZID=UTC:20251029T183000
DTEND;TZID=UTC:20251029T193000
DTSTAMP:20260423T212852
CREATED:20251030T232550Z
LAST-MODIFIED:20251030T232550Z
UID:930-1761762600-1761766200@resoundingphiladelphia.com
SUMMARY:Realty Alliance cocktail reception
DESCRIPTION:Greeting the buses and giving escort for the conference’s evening reception.
URL:https://resoundingphiladelphia.com/event/realty-alliance-cocktail-reception/
LOCATION:National Constitution Center\, 525 Arch St\, Philadelphia\, PA\, 19106\, United States
ATTACH;FMTTYPE=image/heic:https://resoundingphiladelphia.com/wp-content/uploads/2025/10/National-Constitution-Center-1.heic
END:VEVENT
END:VCALENDAR