BEGIN:VCALENDAR
VERSION:2.0
PRODID:-//ResoundingPhiladelphia.com - ECPv6.15.20//NONSGML v1.0//EN
CALSCALE:GREGORIAN
METHOD:PUBLISH
X-ORIGINAL-URL:https://resoundingphiladelphia.com
X-WR-CALDESC:Events for ResoundingPhiladelphia.com
REFRESH-INTERVAL;VALUE=DURATION:PT1H
X-Robots-Tag:noindex
X-PUBLISHED-TTL:PT1H
BEGIN:VTIMEZONE
TZID:UTC
BEGIN:STANDARD
TZOFFSETFROM:+0000
TZOFFSETTO:+0000
TZNAME:UTC
DTSTART:20240101T000000
END:STANDARD
END:VTIMEZONE
BEGIN:VEVENT
DTSTART;TZID=UTC:20250622T110000
DTEND;TZID=UTC:20250622T140000
DTSTAMP:20260424T021310
CREATED:20250609T013621Z
LAST-MODIFIED:20250820T184315Z
UID:717-1750590000-1750600800@resoundingphiladelphia.com
SUMMARY:Historical Character Brunch Buffet
DESCRIPTION:This fundraiser was a tour of the Parry mansion and luncheon with historical characters. Our revolutionary fife and drum company\, partnered with Living History Co\, gave demonstrations at 11:30\, 12:30 and 1:30. The brunch buffet was courtesy of Ferry and Main at the Logan Inn.
URL:https://resoundingphiladelphia.com/event/historical-character-brunch-buffet/
LOCATION:Parry Mansion Museum\, 45 South Main Street\, New Hope\, PA\, 18938\, United States
ATTACH;FMTTYPE=image/heic:https://resoundingphiladelphia.com/wp-content/uploads/2025/06/Character-brunch.heic
END:VEVENT
END:VCALENDAR