BEGIN:VCALENDAR
VERSION:2.0
PRODID:-//ResoundingPhiladelphia.com - ECPv6.15.20//NONSGML v1.0//EN
CALSCALE:GREGORIAN
METHOD:PUBLISH
X-WR-CALNAME:ResoundingPhiladelphia.com
X-ORIGINAL-URL:https://resoundingphiladelphia.com
X-WR-CALDESC:Events for ResoundingPhiladelphia.com
REFRESH-INTERVAL;VALUE=DURATION:PT1H
X-Robots-Tag:noindex
X-PUBLISHED-TTL:PT1H
BEGIN:VTIMEZONE
TZID:UTC
BEGIN:STANDARD
TZOFFSETFROM:+0000
TZOFFSETTO:+0000
TZNAME:UTC
DTSTART:20230101T000000
END:STANDARD
END:VTIMEZONE
BEGIN:VEVENT
DTSTART;TZID=UTC:20240622T110000
DTEND;TZID=UTC:20240622T140000
DTSTAMP:20260423T202033
CREATED:20241122T180155Z
LAST-MODIFIED:20241122T215213Z
UID:603-1719054000-1719064800@resoundingphiladelphia.com
SUMMARY:Star Spangled Celebration at Providence Town Center
DESCRIPTION:We’ll kick off our FIRST EVENT EVER at 11 AM Saturday\, June 22\, Providence Town Center as we parade around the Collegeville square! And that’s just the beginning! I’ll also be singing our National Anthem. Wear your red\, white and blue and join us!
URL:https://resoundingphiladelphia.com/event/star-spangled-celebration/
LOCATION:Providence Town Center\, Town Center Drive\, Collegeville\, PA\, 19426\, United States
ATTACH;FMTTYPE=image/jpeg:https://resoundingphiladelphia.com/wp-content/uploads/2024/07/Philly-Fife-and-Drum-4som-3.jpg
END:VEVENT
END:VCALENDAR