BEGIN:VCALENDAR
VERSION:2.0
PRODID:-//ResoundingPhiladelphia.com - ECPv6.15.20//NONSGML v1.0//EN
CALSCALE:GREGORIAN
METHOD:PUBLISH
X-WR-CALNAME:ResoundingPhiladelphia.com
X-ORIGINAL-URL:https://resoundingphiladelphia.com
X-WR-CALDESC:Events for ResoundingPhiladelphia.com
REFRESH-INTERVAL;VALUE=DURATION:PT1H
X-Robots-Tag:noindex
X-PUBLISHED-TTL:PT1H
BEGIN:VTIMEZONE
TZID:UTC
BEGIN:STANDARD
TZOFFSETFROM:+0000
TZOFFSETTO:+0000
TZNAME:UTC
DTSTART:20250101T000000
END:STANDARD
END:VTIMEZONE
BEGIN:VEVENT
DTSTART;TZID=UTC:20260703T110000
DTEND;TZID=UTC:20260703T130000
DTSTAMP:20260423T190643
CREATED:20260128T014908Z
LAST-MODIFIED:20260128T014908Z
UID:1010-1783076400-1783083600@resoundingphiladelphia.com
SUMMARY:Salute to Independence Semiquincentennial Parade
DESCRIPTION:The countdown is on for the largest and most magnificent professionally produced 250th Birthday parade in the Nation to hit the streets of Philadelphia.
URL:https://resoundingphiladelphia.com/event/salute-to-independence-semiquincentennial-parade/
ATTACH;FMTTYPE=image/jpeg:https://resoundingphiladelphia.com/wp-content/uploads/2026/01/STIP_logo_.jpg
END:VEVENT
BEGIN:VEVENT
DTSTART;TZID=UTC:20260704T110000
DTEND;TZID=UTC:20260704T130000
DTSTAMP:20260423T190643
CREATED:20260128T015534Z
LAST-MODIFIED:20260128T020000Z
UID:1014-1783162800-1783170000@resoundingphiladelphia.com
SUMMARY:Historic 4th of July Parade\, Skippack\, PA
DESCRIPTION:We are leading the annual Historic 4th of July Parade through Skippack Village in Skippack Pennsylvania. The 2 mile parade route is on Rt 73 from Route 113 to the Skippack Post Office at Forty Foot Road.
URL:https://resoundingphiladelphia.com/event/historic-4th-of-july-parade-skippack-pa/
ATTACH;FMTTYPE=image/png:https://resoundingphiladelphia.com/wp-content/uploads/2026/01/Skippack-Village.png
END:VEVENT
BEGIN:VEVENT
DTSTART;VALUE=DATE:20260705
DTEND;VALUE=DATE:20260706
DTSTAMP:20260423T190643
CREATED:20260207T193101Z
LAST-MODIFIED:20260326T211916Z
UID:1037-1783209600-1783295999@resoundingphiladelphia.com
SUMMARY:Various other performances
DESCRIPTION:Would you like to book our corps to play for YOUR 250 Celebration? As of March 2026 there are more than thirty organizations in various stages of booking\, but only contracted public events will save the date in our calendar and receive a listing on our website. Contact us right away to book your event Phillyfifer@gmail.com A $500 non-refundable deposit will hold your date.
URL:https://resoundingphiladelphia.com/event/various-other-performances/
ATTACH;FMTTYPE=image/png:https://resoundingphiladelphia.com/wp-content/uploads/2026/02/Screenshot-2026-02-07-at-2.22.03-PM.png
END:VEVENT
BEGIN:VEVENT
DTSTART;TZID=UTC:20260712T133000
DTEND;TZID=UTC:20260712T144500
DTSTAMP:20260423T190643
CREATED:20260207T191743Z
LAST-MODIFIED:20260207T191743Z
UID:1034-1783863000-1783867500@resoundingphiladelphia.com
SUMMARY:Patriot Recognition Day
DESCRIPTION:The Philly Fife and Drum Company will provide five uniformed fifers and drummers and give two 12-minute performances of Patriotic Revolutionary music for this Barrett Historical Semiquincentennial celebration. \nOur performance is planned for outdoors. In the case of rain or a severe weather event\, the performance will move to the Barrett Municipal building gymnasium.
URL:https://resoundingphiladelphia.com/event/patriot-recognition-day/
LOCATION:Barrett Municipal building\, 1200 Route 390\, Cresco\, PA\, 18326\, United States
END:VEVENT
END:VCALENDAR