BEGIN:VCALENDAR
VERSION:2.0
PRODID:-//ResoundingPhiladelphia.com - ECPv6.15.20//NONSGML v1.0//EN
CALSCALE:GREGORIAN
METHOD:PUBLISH
X-WR-CALNAME:ResoundingPhiladelphia.com
X-ORIGINAL-URL:https://resoundingphiladelphia.com
X-WR-CALDESC:Events for ResoundingPhiladelphia.com
REFRESH-INTERVAL;VALUE=DURATION:PT1H
X-Robots-Tag:noindex
X-PUBLISHED-TTL:PT1H
BEGIN:VTIMEZONE
TZID:UTC
BEGIN:STANDARD
TZOFFSETFROM:+0000
TZOFFSETTO:+0000
TZNAME:UTC
DTSTART:20250101T000000
END:STANDARD
END:VTIMEZONE
BEGIN:VEVENT
DTSTART;TZID=UTC:20260418T123000
DTEND;TZID=UTC:20260418T133000
DTSTAMP:20260423T153251
CREATED:20260207T174916Z
LAST-MODIFIED:20260419T200010Z
UID:1028-1776515400-1776519000@resoundingphiladelphia.com
SUMMARY:Constitution House Marker Dedication
DESCRIPTION:On Market Street (between 2nd & 3rd streets). \nThe Commonwealth of Pennsylvania Historic Marker dedication is co-sponsored by the PA State Society DAR and the Pennsylvania Historical and Museum Commission. The Philly Fife and Drum Company provided incidental\, traditional fife and drum music for the unveiling.
URL:https://resoundingphiladelphia.com/event/constitution-house-marker-dedication/
ATTACH;FMTTYPE=image/heic:https://resoundingphiladelphia.com/wp-content/uploads/2026/02/Marker-Dedication.heic
END:VEVENT
END:VCALENDAR