BEGIN:VCALENDAR
VERSION:2.0
PRODID:-//ResoundingPhiladelphia.com - ECPv6.15.20//NONSGML v1.0//EN
CALSCALE:GREGORIAN
METHOD:PUBLISH
X-WR-CALNAME:ResoundingPhiladelphia.com
X-ORIGINAL-URL:https://resoundingphiladelphia.com
X-WR-CALDESC:Events for ResoundingPhiladelphia.com
REFRESH-INTERVAL;VALUE=DURATION:PT1H
X-Robots-Tag:noindex
X-PUBLISHED-TTL:PT1H
BEGIN:VTIMEZONE
TZID:UTC
BEGIN:STANDARD
TZOFFSETFROM:+0000
TZOFFSETTO:+0000
TZNAME:UTC
DTSTART:20250101T000000
END:STANDARD
END:VTIMEZONE
BEGIN:VEVENT
DTSTART;TZID=UTC:20260412T140000
DTEND;TZID=UTC:20260412T160000
DTSTAMP:20260423T153258
CREATED:20260125T040802Z
LAST-MODIFIED:20260326T210611Z
UID:1003-1776002400-1776009600@resoundingphiladelphia.com
SUMMARY:Greater Whitemarsh 250 kick off event
DESCRIPTION:The Philly Fife and Drum Company will be helping launch this event. Festivities include a Colonial flag presentation by our director geared to fourth through sixth graders and their families. \nCome celebrate 250 years of shared history in the Whitemarsh Valley and surrounding areas! Come see costumed reenactors\, visit historical society and historical site information booths\, and try some Colonial games\, snacks and patriotic face painting. The event will also launch the Greater Whitemarsh History Consortium 250 Passport book\, which encourages learning about the places\, events\, and people who shaped the area by visiting local sites that emerged along the Revolutionary War trails. \nSt. Thomas’ Episcopal Church\, Whitemarsh\, 7020 Camp Hill Rd.\, Fort Washington from 2-4 PM. \nThis will be an outdoor event\, weather permitting\, or inside the Parish Hall Auditorium in case of bad weather.
URL:https://resoundingphiladelphia.com/event/greater-whitemarsh-250-kick-off-event/
LOCATION:St. Thomas’ Episcopal Church of Whitemarsh\, 7020 Camp Hill Road\, Ft. Washington\, PA\, 19034\, United States
ATTACH;FMTTYPE=image/png:https://resoundingphiladelphia.com/wp-content/uploads/2026/01/St.-Thomas-of-Whitemarsh-2026.png
END:VEVENT
END:VCALENDAR