BEGIN:VCALENDAR
VERSION:2.0
PRODID:-//ResoundingPhiladelphia.com - ECPv6.15.20//NONSGML v1.0//EN
CALSCALE:GREGORIAN
METHOD:PUBLISH
X-WR-CALNAME:ResoundingPhiladelphia.com
X-ORIGINAL-URL:https://resoundingphiladelphia.com
X-WR-CALDESC:Events for ResoundingPhiladelphia.com
REFRESH-INTERVAL;VALUE=DURATION:PT1H
X-Robots-Tag:noindex
X-PUBLISHED-TTL:PT1H
BEGIN:VTIMEZONE
TZID:UTC
BEGIN:STANDARD
TZOFFSETFROM:+0000
TZOFFSETTO:+0000
TZNAME:UTC
DTSTART:20240101T000000
END:STANDARD
END:VTIMEZONE
BEGIN:VEVENT
DTSTART;TZID=UTC:20251120T150000
DTEND;TZID=UTC:20251120T170000
DTSTAMP:20260423T212924
CREATED:20251017T002025Z
LAST-MODIFIED:20251030T224036Z
UID:913-1763650800-1763658000@resoundingphiladelphia.com
SUMMARY:Snare auditions
DESCRIPTION:Want to be a PhillyDrummer\, either as a corps member or a substitute? If interested\, please contact our director Lois Herbine phillyfifer@gmail.com\nHere are our audition requirements:\n– Three Camps (memorized)\n– Downfall of Paris (memorized)\n– The Pine Cone Forest – John Pratt\nComplete (auditioning for a core spot)\nm.1-40 (auditioning for a substitute spot)\nNote: 7-stroke rolls in the Pratt should be performed on a 16th note grid
URL:https://resoundingphiladelphia.com/event/snare-auditions/
ATTACH;FMTTYPE=image/jpeg:https://resoundingphiladelphia.com/wp-content/uploads/2025/09/IMG_3526.jpeg
END:VEVENT
END:VCALENDAR