BEGIN:VCALENDAR
VERSION:2.0
PRODID:-//ResoundingPhiladelphia.com - ECPv6.15.20//NONSGML v1.0//EN
CALSCALE:GREGORIAN
METHOD:PUBLISH
X-ORIGINAL-URL:https://resoundingphiladelphia.com
X-WR-CALDESC:Events for ResoundingPhiladelphia.com
REFRESH-INTERVAL;VALUE=DURATION:PT1H
X-Robots-Tag:noindex
X-PUBLISHED-TTL:PT1H
BEGIN:VTIMEZONE
TZID:UTC
BEGIN:STANDARD
TZOFFSETFROM:+0000
TZOFFSETTO:+0000
TZNAME:UTC
DTSTART:20240101T000000
END:STANDARD
END:VTIMEZONE
BEGIN:VEVENT
DTSTART;TZID=UTC:20250712T110000
DTEND;TZID=UTC:20250712T130000
DTSTAMP:20260424T021258
CREATED:20250601T145500Z
LAST-MODIFIED:20250820T183821Z
UID:702-1752318000-1752325200@resoundingphiladelphia.com
SUMMARY:Easton Heritage Day
DESCRIPTION:With over 5\,000 attendees\, Heritage Day brings the community together through reenactment events\, activities for kids\, live music\, food\, vendors and fireworks. Easton is one of only three towns where the Declaration of Independence was read on July 8\, 1776. The Philly Fife and Drum company started day’s event processing from Easton’s Farmers Market at Scott Park to the Historic Center Square circle at 9:00 AM and met with some British troops on our way.
URL:https://resoundingphiladelphia.com/event/easton-heritage-day/
LOCATION:Easton’s Historic Centre Square\, 900 Packer Avenue\, Easton\, PA\, PA\, 18042\, United States
ATTACH;FMTTYPE=image/jpeg:https://resoundingphiladelphia.com/wp-content/uploads/2025/07/IMG_5288-1-scaled.jpeg
END:VEVENT
END:VCALENDAR