BEGIN:VCALENDAR
VERSION:2.0
PRODID:-//ResoundingPhiladelphia.com - ECPv6.15.20//NONSGML v1.0//EN
CALSCALE:GREGORIAN
METHOD:PUBLISH
X-WR-CALNAME:ResoundingPhiladelphia.com
X-ORIGINAL-URL:https://resoundingphiladelphia.com
X-WR-CALDESC:Events for ResoundingPhiladelphia.com
REFRESH-INTERVAL;VALUE=DURATION:PT1H
X-Robots-Tag:noindex
X-PUBLISHED-TTL:PT1H
BEGIN:VTIMEZONE
TZID:UTC
BEGIN:STANDARD
TZOFFSETFROM:+0000
TZOFFSETTO:+0000
TZNAME:UTC
DTSTART:20240101T000000
END:STANDARD
END:VTIMEZONE
BEGIN:VEVENT
DTSTART;TZID=UTC:20250109T173000
DTEND;TZID=UTC:20250109T184500
DTSTAMP:20260424T084157
CREATED:20241218T234737Z
LAST-MODIFIED:20250114T025913Z
UID:649-1736443800-1736448300@resoundingphiladelphia.com
SUMMARY:Monroe County America250PA kickoff event
DESCRIPTION:Philly Fife and Drum performed from 5:30 to 6:00 PM. Then the corps processed performing Yankee Doodle and played the Star Spangled Banner to start the meeting. We were available afterward for photo-ops and to talk to students and answer questions.
URL:https://resoundingphiladelphia.com/event/monroe-america250pa/
LOCATION:Northampton Community College\, 2411 PA-715\, Tannersville\, PA\, 18372\, United States
ATTACH;FMTTYPE=image/jpeg:https://resoundingphiladelphia.com/wp-content/uploads/2024/12/IMG_9334.jpeg
END:VEVENT
END:VCALENDAR